BEGIN:VCALENDAR
VERSION:2.0
PRODID:-//Tukios.com/
BEGIN:VEVENT
UID:3cc30781-101f-48d0-ae8e-4d07f87e7d13@www.mcdanielfuneralservice.com
DTSTAMP:20260424T213110Z
DTSTART:20260516T153000Z
DTEND:20260516T200000Z
SUMMARY:Visitation
DESCRIPTION:Funeral services will be at 11:30am following visitation. 
	Celebration of life will be held at 2012 First Street Kennett, Missouri
URL:https://www.mcdanielfuneralservice.com/obituaries/nancy-bartmass
LOCATION: 115 South Bypass 115 Highway 412  Kennett MO 63857
GEO:36.2249714;-90.0558844
END:VEVENT
END:VCALENDAR