BEGIN:VCALENDAR
VERSION:2.0
PRODID:-//Tukios.com/
BEGIN:VEVENT
UID:4abf3259-deee-4cb3-82ed-d97c1a42c896@www.mcdanielfuneralservice.com
DTSTAMP:20260424T214831Z
DTSTART:20260426T190000Z
DTEND:20260426T200000Z
SUMMARY:Graveside Service
DESCRIPTION:
URL:https://www.mcdanielfuneralservice.com/obituaries/frances-watson-martin
LOCATION:Gregory Cemetery Gregory Cove  Kennett MO 63857
GEO:36.2315471;-90.0609049
END:VEVENT
END:VCALENDAR